BEGIN:VCALENDAR
VERSION:2.0
PRODID:-//ensemble cantissimo - ECPv4.9.0.3//NONSGML v1.0//EN
CALSCALE:GREGORIAN
METHOD:PUBLISH
X-WR-CALNAME:ensemble cantissimo
X-ORIGINAL-URL:https://ensemble-cantissimo.ch
X-WR-CALDESC:Veranstaltungen im ensemble cantissimo
BEGIN:VEVENT
DTSTART;TZID=Europe/Berlin:20240413T170000
DTEND;TZID=Europe/Berlin:20240413T190000
DTSTAMP:20260423T001516
CREATED:20240127T232322Z
LAST-MODIFIED:20240203T175406Z
UID:3950-1713027600-1713034800@ensemble-cantissimo.ch
SUMMARY:„Singet…“ - Meisterwerke der Stimmkunst
DESCRIPTION:[vc_row][vc_column][vc_column_text] \nFrank Martin zu Ehren\n\nEin Konzertabend für den Schweizer Klassiker der Moderne[/vc_column_text][gsf_space desktop=“22″ tablet=“17″ tablet_portrait=“15″ mobile_landscape=“12″ mobile=“10″][/vc_column][/vc_row][vc_row][vc_column offset=“vc_col-lg-offset-1 vc_col-lg-10″][vc_row_inner][vc_column_inner][vc_column_text] \nSamstag\, 13.04.2024\nFraumünster Zürich | 17:00 – 19:00 Uhr\n[/vc_column_text][/vc_column_inner][/vc_row_inner][gsf_space desktop=“45″ tablet=“35″ tablet_portrait=“30″ mobile_landscape=“25″ mobile=“20″][vc_column_text el_class=“mg-bottom-50″]Frank Martin (1890-1974) – Passacaglia für Orgel (1944) / Jörg Ulrich Busch\nVortrag „Frank Martin im Schweizer Umfeld“ – Biographisches\, Werkeinführungen / Prof. Dr. Dominik Sackmann \nPause \nKonzert ensemble cantissimo\nJ.S. Bach (1685-1750) – „Singet dem Herrn ein neues Lied” (1726) BWV 225 / Chor\, Solisten und Basso Continuo\nThomas Jennefelt (1954) – „Villarosa sarialdi“ (1994)\nFrank Martin – Messe für Doppelchor (1922/26) \nApéro: Im Gespräch mit Künstler:innen und Gönner:innen \n  \nJörg-Ulrich Busch\, Orgel\nensemble cantissimo\nMarkus Utz\, Dirigent \nDie Musik im Fraumünster und das ensemble cantissimo veranstalten einen Konzertabend mit kurzem Vortrag über den Schweizer Komponisten Frank Martin anlässlich dessen 50. Todestages. Im Mittelpunkt steht ein a capella Chorkonzert mit Werken von Bach\, Martin und Jennefelt. Das Programm des Abends beginnt mit Martins Passacaglia für Orgel und einem kurzen Vortrag von Prof. Dr. Dominik Sackmann. Der Konzertabend klingt mit einem Apéro und sicher guten Gesprächen für die Konzertbesucher mit allen Beteiligten aus. \n  \nDie Stimme ist ein Wunderwerk der Natur und eines der ursprünglichsten menschlichen Ausdrucksmittel. Diesem Hintergrund entspringt auch der Name des ensembles „cantissimo“. Er steht zugleich für die Spezialisierung auf die Königsdisziplin der Chormusik\, den A-cappella-Gesang. Ohne Begleitung von Instrumenten entsteht dabei ein stimmiger Vielklang.\nMit drei Meisterwerken von Bach\, Jennefelt und Frank Martin begeht das ensemble cantissimo im Jahr 2024 sein 30-jähriges Bestehen. Die Stücke fordern ein breites Spektrum stimmlicher Ausdrucksmöglichkeiten und markieren überdies wichtige Wegpunkte des Ensembles. Ein richtiges Festkonzert![/vc_column_text][gsf_space desktop=“30″ tablet=“23″ tablet_portrait=“20″ mobile_landscape=“17″ mobile=“13″][gsf_button title=“Weitere Informationen“ el_class=““ link=“url:https%3A%2F%2Fmusikimfraumuenster.ch%2Fkonzerte%2Ffrank-martin-zu-ehren%2F|title:Weitere%20Informationen|target:_blank“][/vc_column][/vc_row] \n
URL:https://ensemble-cantissimo.ch/konzert/singet-meisterwerke-der-stimmkunst-2/
LOCATION:Fraumünster Zürich\, Fraumünster\, Zürich
GEO:47.3697263;8.541363
X-APPLE-STRUCTURED-LOCATION;VALUE=URI;X-ADDRESS=Fraumünster Zürich Fraumünster Zürich;X-APPLE-RADIUS=500;X-TITLE=Fraumünster:geo:8.541363,47.3697263
END:VEVENT
END:VCALENDAR